BEGIN:VCALENDAR
VERSION:2.0
PRODID:-//ChamberMaster//Event Calendar 2.0//EN
METHOD:PUBLISH
X-PUBLISHED-TTL:P3D
REFRESH-INTERVAL:P3D
CALSCALE:GREGORIAN
BEGIN:VEVENT
DTSTART:20181018T110000Z
DTEND:20181018T123000Z
X-MICROSOFT-CDO-ALLDAYEVENT:FALSE
SUMMARY:Monthly Chamber Board Meeting
DESCRIPTION:Monthly meeting for the Fulton County Chamber of Commerce Board of Directors
X-ALT-DESC;FMTTYPE=text/html:Monthly meeting for the Fulton County Chamber of Commerce Board of Directors
LOCATION:The Fulton County Chamber Office 822 Main St Rochester\, IN 46975
UID:e.2765.309
SEQUENCE:3
DTSTAMP:20260424T125957Z
URL:https://business.fultoncountychamber.com/events/details/monthly-chamber-board-meeting-10-18-2018-309
END:VEVENT

END:VCALENDAR
